BEGIN:VCALENDAR
VERSION:2.0
PRODID:-//VFW Post 2933 - ECPv6.15.20//NONSGML v1.0//EN
CALSCALE:GREGORIAN
METHOD:PUBLISH
X-ORIGINAL-URL:https://www.vfw2933.com
X-WR-CALDESC:Events for VFW Post 2933
REFRESH-INTERVAL;VALUE=DURATION:PT1H
X-Robots-Tag:noindex
X-PUBLISHED-TTL:PT1H
BEGIN:VTIMEZONE
TZID:America/Chicago
BEGIN:DAYLIGHT
TZOFFSETFROM:-0600
TZOFFSETTO:-0500
TZNAME:CDT
DTSTART:20240310T080000
END:DAYLIGHT
BEGIN:STANDARD
TZOFFSETFROM:-0500
TZOFFSETTO:-0600
TZNAME:CST
DTSTART:20241103T070000
END:STANDARD
BEGIN:DAYLIGHT
TZOFFSETFROM:-0600
TZOFFSETTO:-0500
TZNAME:CDT
DTSTART:20250309T080000
END:DAYLIGHT
BEGIN:STANDARD
TZOFFSETFROM:-0500
TZOFFSETTO:-0600
TZNAME:CST
DTSTART:20251102T070000
END:STANDARD
BEGIN:DAYLIGHT
TZOFFSETFROM:-0600
TZOFFSETTO:-0500
TZNAME:CDT
DTSTART:20260308T080000
END:DAYLIGHT
BEGIN:STANDARD
TZOFFSETFROM:-0500
TZOFFSETTO:-0600
TZNAME:CST
DTSTART:20261101T070000
END:STANDARD
END:VTIMEZONE
BEGIN:VEVENT
DTSTART;TZID=America/Chicago:20251218T180000
DTEND;TZID=America/Chicago:20251218T203000
DTSTAMP:20260419T115802
CREATED:20250916T001002Z
LAST-MODIFIED:20251124T012713Z
UID:541-1766080800-1766089800@www.vfw2933.com
SUMMARY:Christmas Party
DESCRIPTION:The Christmas party is confirmed for December 18th at Patriots Hall. Social Hour/Arrival 6:00 – 7:00 pm. Dinner is served at 7:00 pm. This is a wonderful event that started long ago when our comrades were looking for a place to eat after singing Christmas Carols in the community. Send an email to Rob Parker to RSVP for the event.  This event is in lieu of our December meeting. 
URL:https://www.vfw2933.com/event/christmas-party/
LOCATION:Patriots Hall\, 231 Patriots Hall Blvd\, Dripping Springs\, TX\, 78620\, United States
END:VEVENT
END:VCALENDAR