BEGIN:VCALENDAR
VERSION:2.0
PRODID:-//VFW Post 2933 - ECPv6.15.20//NONSGML v1.0//EN
CALSCALE:GREGORIAN
METHOD:PUBLISH
X-WR-CALNAME:VFW Post 2933
X-ORIGINAL-URL:https://www.vfw2933.com
X-WR-CALDESC:Events for VFW Post 2933
REFRESH-INTERVAL;VALUE=DURATION:PT1H
X-Robots-Tag:noindex
X-PUBLISHED-TTL:PT1H
BEGIN:VTIMEZONE
TZID:America/Chicago
BEGIN:DAYLIGHT
TZOFFSETFROM:-0600
TZOFFSETTO:-0500
TZNAME:CDT
DTSTART:20240310T080000
END:DAYLIGHT
BEGIN:STANDARD
TZOFFSETFROM:-0500
TZOFFSETTO:-0600
TZNAME:CST
DTSTART:20241103T070000
END:STANDARD
BEGIN:DAYLIGHT
TZOFFSETFROM:-0600
TZOFFSETTO:-0500
TZNAME:CDT
DTSTART:20250309T080000
END:DAYLIGHT
BEGIN:STANDARD
TZOFFSETFROM:-0500
TZOFFSETTO:-0600
TZNAME:CST
DTSTART:20251102T070000
END:STANDARD
BEGIN:DAYLIGHT
TZOFFSETFROM:-0600
TZOFFSETTO:-0500
TZNAME:CDT
DTSTART:20260308T080000
END:DAYLIGHT
BEGIN:STANDARD
TZOFFSETFROM:-0500
TZOFFSETTO:-0600
TZNAME:CST
DTSTART:20261101T070000
END:STANDARD
END:VTIMEZONE
BEGIN:VEVENT
DTSTART;TZID=America/Chicago:20250911T080000
DTEND;TZID=America/Chicago:20250911T090000
DTSTAMP:20260420T000817
CREATED:20250915T005012Z
LAST-MODIFIED:20250915T005013Z
UID:539-1757577600-1757581200@www.vfw2933.com
SUMMARY:Patriot's Day 9/11 Ceremony
DESCRIPTION:Come join the VFW and American Legion for a Patriots Day (9/11) Ceremony at Patriots Hall
URL:https://www.vfw2933.com/event/patriots-day-9-11-ceremony/
LOCATION:Patriots Hall\, 231 Patriots Hall Blvd\, Dripping Springs\, TX\, 78620\, United States
END:VEVENT
END:VCALENDAR